Workbook

Sheet Como utilizar essa planilha
A2: Bem-vindo à Planilha de Gestão de Contratos!
B8: Para começar a utilizá-la, confira como funciona cada aba: | I8: É importante destacar que não recomendamos a planilha para a gestão de um grande volume de contratos. Neste caso, conte com a tecnologia da plataforma EASYJUR Contratos para fazer a automação do gerenciamento contratual.
B10: 1 - Cadastro de Clientes
B11: Basta preencher os campos indicados com informações de seus clientes. Levantamos as principais informações, mas fique à vontade para acrescentar outras, conforme achar necessário.
B14: 2 - Outros Cadastros
B15: Preencha com informações relativas aos responsáveis e os tipos de contrato que seu escritório utiliza.
B18: 3 - Registro de Contratos
B19: Aqui entram as informações dos contratos em si. Você insere informações relativas aos valores, vencimentos e renovações. A própria planilha retorna algumas informações relativas a prazos e te avisa quando um contrato está vencido.
B22: 4 - Recebimentos
B23: A própria planilha puxa as informações sobre os contratos e você preenche com os valores recebidos no decorrer dos meses. | J23: Gestão de contratos em um só lugar! O sistema realiza a varredura diária dos processos distribuídos, classificando o contexto da movimentação e sugerindo as providências a serem tomadas, eliminando até 70% das atividades repetitivas e reduzindo em até 99% o risco da perda de prazos.
B26: 5 - Dashboard dos Contratos
B27: Nessa aba você não precisa preencher nada. A planilha ira te retornar um relatório referente aos contratos que você tem em vigor durante o ano e dois gráficos para avaliar seus recebimentos mês a mês.
J29: Teste o EASYJUR grátis
B30: A planilha é toda desbloqueada de forma que você utilizá-la e fazer as adaptações que achar pertinentes para que ela seja mais útil para suas necessidades.

Sheet Dashboard dos Contratos
C1: Dashboard dos Contratos
B3: Contratos | C3: Janeiro | D3: Fevereiro | E3: Março | F3: Abril | G3: Maio | H3: Junho | I3: Julho | J3: Agosto | K3: Setembro | L3: Outubro | M3: Novembro | N3: Dezembro | O3: Total
B5: Assinados | C5: =COUNTIF('Registro de Contratos'!$Q:$Q,"1") -> 2 | D5: =COUNTIF('Registro de Contratos'!$Q:$Q,"2") -> 0 | E5: =COUNTIF('Registro de Contratos'!$Q:$Q,"3") -> 0 | F5: =COUNTIF('Registro de Contratos'!$Q:$Q,"4") -> 1 | G5: =COUNTIF('Registro de Contratos'!$Q:$Q,"5") -> 0 | H5: =COUNTIF('Registro de Contratos'!$Q:$Q,"6") -> 0 | I5: =COUNTIF('Registro de Contratos'!$Q:$Q,"7") -> 0 | J5: =COUNTIF('Registro de Contratos'!$Q:$Q,"8") -> 0 | K5: =COUNTIF('Registro de Contratos'!$Q:$Q,"9") -> 0 | L5: =COUNTIF('Registro de Contratos'!$Q:$Q,"10") -> 0 | M5: =COUNTIF('Registro de Contratos'!$Q:$Q,"11") -> 0 | N5: =COUNTIF('Registro de Contratos'!$Q:$Q,"12") -> 0 | O5: =SUM(C5:N5) -> 3
B6: Valor dos Contratos | C6: =SUMIF('Registro de Contratos'!$Q:$Q,"1",'Registro de Contratos'!$E:$E) -> 0 | D6: =SUMIF('Registro de Contratos'!$Q:$Q,"2",'Registro de Contratos'!$E:$E) -> 0 | E6: =SUMIF('Registro de Contratos'!$Q:$Q,"3",'Registro de Contratos'!$E:$E) -> 0 | F6: =SUMIF('Registro de Contratos'!$Q:$Q,"=4",'Registro de Contratos'!$E:$E) -> 35000 | G6: =SUMIF('Registro de Contratos'!$Q:$Q,"5",'Registro de Contratos'!$E:$E) -> 0 | H6: =SUMIF('Registro de Contratos'!$Q:$Q,"6",'Registro de Contratos'!$E:$E) -> 0 | I6: =SUMIF('Registro de Contratos'!$Q:$Q,"7",'Registro de Contratos'!$E:$E) -> 0 | J6: =SUMIF('Registro de Contratos'!$Q:$Q,"8",'Registro de Contratos'!$E:$E) -> 0 | K6: =SUMIF('Registro de Contratos'!$Q:$Q,"9",'Registro de Contratos'!$E:$E) -> 0 | L6: =SUMIF('Registro de Contratos'!$Q:$Q,"10",'Registro de Contratos'!$E:$E) -> 0 | M6: =SUMIF('Registro de Contratos'!$Q:$Q,"11",'Registro de Contratos'!$E:$E) -> 0 | N6: =SUMIF('Registro de Contratos'!$Q:$Q,"12",'Registro de Contratos'!$E:$E) -> 0 | O6: =SUM(C6:N6) -> 35000
B7: Renovados | C7: =COUNTIF('Registro de Contratos'!$N:$N,"1") -> 0 | D7: =COUNTIF('Registro de Contratos'!$N:$N,"2") -> 0 | E7: =COUNTIF('Registro de Contratos'!$N:$N,"3") -> 0 | F7: =COUNTIF('Registro de Contratos'!$N:$N,"4") -> 0 | G7: =COUNTIF('Registro de Contratos'!$N:$N,"5") -> 0 | H7: =COUNTIF('Registro de Contratos'!$N:$N,"6") -> 0 | I7: =COUNTIF('Registro de Contratos'!$N:$N,"7") -> 0 | J7: =COUNTIF('Registro de Contratos'!$N:$N,"8") -> 0 | K7: =COUNTIF('Registro de Contratos'!$N:$N,"9") -> 0 | L7: =COUNTIF('Registro de Contratos'!$N:$N,"10") -> 0 | M7: =COUNTIF('Registro de Contratos'!$N:$N,"11") -> 0 | N7: =COUNTIF('Registro de Contratos'!$N:$N,"12") -> 0 | O7: =SUM(C7:N7) -> 0
B8: Valor Recebido | C8: =SUM(Recebimentos!B5:B1002) -> 0 | D8: =SUM(Recebimentos!C5:C1002) -> 0 | E8: =SUM(Recebimentos!D5:D1002) -> 0 | F8: =SUM(Recebimentos!E5:E1002) -> 0 | G8: =SUM(Recebimentos!F5:F1002) -> 0 | H8: =SUM(Recebimentos!G5:G1002) -> 0 | I8: =SUM(Recebimentos!H5:H1002) -> 0 | J8: =SUM(Recebimentos!I5:I1002) -> 0 | ... N8: =SUM(Recebimentos!M5:M1002) -> 0 | O8: =SUM(C8:N8) -> 0

Sheet Cadastro de Clientes
C1: CADASTRO DE CLIENTE
B4: Clientes | C4: CNPJ ou CPF | D4: Telefone | E4: Email | F4: Endereço | G4: Bairro | H4: Cidade
B8: -
B9: -
B10: -
B11: -
B12: -
B13: -
B14: -
B15: -
B16: -
B17: -
B18: -
B19: -
... B1001: -

Sheet Outros Cadastros
B1: OUTROS CADASTROS
B3: Responsáveis | D3: Tipos de Contrato

Sheet Registro de Contratos
D1: REGISTRO DE CONTRATOS
O2: =TODAY() -> 45432
B4: Identificador | C4: Cliente | D4: Data da Assinatura | E4: Valor | F4: Tipo de Contrato | G4: Vendedor | H4: Início da Vigência | I4: Data de Vencimento | J4: Duração do Contrato | K4: Situação | L4: Dias para vencer | M4: Contrato renovado? | N4: Data da Renovação | O4: Novo Vencimento | P4: Novo Valor | Q4: Mês de assinatura
B5: Contrato 1 | C5: Simone | D5: 43559 | E5: 35000 | F5: Consórcio | G5: Paulo Costa | H5: 43559 | I5: =IF(H5="","",H5+365) -> 43924 | J5: =IF('Registro de Contratos'!$M5="SIM",IF(OR(O5="",N5=""),"",IF((O5-N5)=1,(O5-N5)&" dia",(O5-N5)&" dias")),IF(OR(I5="",D5=""),"",IF((I5-D5)=1,(I5-D5)&" dia",(I5-D5)&" dias"))) -> 365 dias | K5: =IF(L5<0,"Vencido",IF(L5<30,"A vencer", IF(L5<60,"Renegociar","OK"))) -> Vencido | L5: =I5-$O$2 -> -1508 | M5: Não | Q5: =MONTH(D5) -> 4
Q6: =MONTH(D6) -> 1
Q7: =MONTH(D7) -> 1
Q8: =IF(D8 = "", " ", MONTH(D8))
Q9: =IF(D9 = "", " ", MONTH(D9))
Q10: =IF(D10 = "", " ", MONTH(D10))
Q11: =IF(D11 = "", " ", MONTH(D11))
Q12: =IF(D12 = "", " ", MONTH(D12))
Q13: =IF(D13 = "", " ", MONTH(D13))
Q14: =IF(D14 = "", " ", MONTH(D14))
Q15: =IF(D15 = "", " ", MONTH(D15))
Q16: =IF(D16 = "", " ", MONTH(D16))
Q17: =IF(D17 = "", " ", MONTH(D17))
Q18: =IF(D18 = "", " ", MONTH(D18))
Q19: =IF(D19 = "", " ", MONTH(D19))
... Q26: =IF(D26 = "", " ", MONTH(D26))
F27: Financeiro | J27: =IF('Registro de Contratos'!$M27="SIM",IF(OR(O27="",N27=""),"",IF((O27-N27)=1,(O27-N27)&" dia",(O27-N27)&" dias")),IF(OR(I27="",D27=""),"",IF((I27-D27)=1,(I27-D27)&" dia",(I27-D27)&" dias"))) | Q27: =IF(D27 = "", " ", MONTH(D27))
F28: Fornecimento de Produto | J28: =IF('Registro de Contratos'!$M28="SIM",IF(OR(O28="",N28=""),"",IF((O28-N28)=1,(O28-N28)&" dia",(O28-N28)&" dias")),IF(OR(I28="",D28=""),"",IF((I28-D28)=1,(I28-D28)&" dia",(I28-D28)&" dias"))) | Q28: =IF(D28 = "", " ", MONTH(D28))
F29: Instalação e Desinstalação | J29: =IF('Registro de Contratos'!$M29="SIM",IF(OR(O29="",N29=""),"",IF((O29-N29)=1,(O29-N29)&" dia",(O29-N29)&" dias")),IF(OR(I29="",D29=""),"",IF((I29-D29)=1,(I29-D29)&" dia",(I29-D29)&" dias"))) | Q29: =IF(D29 = "", " ", MONTH(D29))
F30: Manutenção Preventiva e Corretiva | J30: =IF('Registro de Contratos'!$M30="SIM",IF(OR(O30="",N30=""),"",IF((O30-N30)=1,(O30-N30)&" dia",(O30-N30)&" dias")),IF(OR(I30="",D30=""),"",IF((I30-D30)=1,(I30-D30)&" dia",(I30-D30)&" dias"))) | Q30: =IF(D30 = "", " ", MONTH(D30))
F31: Materiais de construção | J31: =IF('Registro de Contratos'!$M31="SIM",IF(OR(O31="",N31=""),"",IF((O31-N31)=1,(O31-N31)&" dia",(O31-N31)&" dias")),IF(OR(I31="",D31=""),"",IF((I31-D31)=1,(I31-D31)&" dia",(I31-D31)&" dias"))) | Q31: =IF(D31 = "", " ", MONTH(D31))
J32: =IF('Registro de Contratos'!$M32="SIM",IF(OR(O32="",N32=""),"",IF((O32-N32)=1,(O32-N32)&" dia",(O32-N32)&" dias")),IF(OR(I32="",D32=""),"",IF((I32-D32)=1,(I32-D32)&" dia",(I32-D32)&" dias"))) | Q32: =IF(D32 = "", " ", MONTH(D32))
J33: =IF('Registro de Contratos'!$M33="SIM",IF(OR(O33="",N33=""),"",IF((O33-N33)=1,(O33-N33)&" dia",(O33-N33)&" dias")),IF(OR(I33="",D33=""),"",IF((I33-D33)=1,(I33-D33)&" dia",(I33-D33)&" dias"))) | Q33: =IF(D33 = "", " ", MONTH(D33))
J34: =IF('Registro de Contratos'!$M34="SIM",IF(OR(O34="",N34=""),"",IF((O34-N34)=1,(O34-N34)&" dia",(O34-N34)&" dias")),IF(OR(I34="",D34=""),"",IF((I34-D34)=1,(I34-D34)&" dia",(I34-D34)&" dias"))) | Q34: =IF(D34 = "", " ", MONTH(D34))
J35: =IF('Registro de Contratos'!$M35="SIM",IF(OR(O35="",N35=""),"",IF((O35-N35)=1,(O35-N35)&" dia",(O35-N35)&" dias")),IF(OR(I35="",D35=""),"",IF((I35-D35)=1,(I35-D35)&" dia",(I35-D35)&" dias"))) | Q35: =IF(D35 = "", " ", MONTH(D35))
J36: =IF('Registro de Contratos'!$M36="SIM",IF(OR(O36="",N36=""),"",IF((O36-N36)=1,(O36-N36)&" dia",(O36-N36)&" dias")),IF(OR(I36="",D36=""),"",IF((I36-D36)=1,(I36-D36)&" dia",(I36-D36)&" dias"))) | Q36: =IF(D36 = "", " ", MONTH(D36))
J37: =IF('Registro de Contratos'!$M37="SIM",IF(OR(O37="",N37=""),"",IF((O37-N37)=1,(O37-N37)&" dia",(O37-N37)&" dias")),IF(OR(I37="",D37=""),"",IF((I37-D37)=1,(I37-D37)&" dia",(I37-D37)&" dias"))) | Q37: =IF(D37 = "", " ", MONTH(D37))
J38: =IF('Registro de Contratos'!$M38="SIM",IF(OR(O38="",N38=""),"",IF((O38-N38)=1,(O38-N38)&" dia",(O38-N38)&" dias")),IF(OR(I38="",D38=""),"",IF((I38-D38)=1,(I38-D38)&" dia",(I38-D38)&" dias"))) | Q38: =IF(D38 = "", " ", MONTH(D38))
J39: =IF('Registro de Contratos'!$M39="SIM",IF(OR(O39="",N39=""),"",IF((O39-N39)=1,(O39-N39)&" dia",(O39-N39)&" dias")),IF(OR(I39="",D39=""),"",IF((I39-D39)=1,(I39-D39)&" dia",(I39-D39)&" dias"))) | Q39: =IF(D39 = "", " ", MONTH(D39))
J40: =IF('Registro de Contratos'!$M40="SIM",IF(OR(O40="",N40=""),"",IF((O40-N40)=1,(O40-N40)&" dia",(O40-N40)&" dias")),IF(OR(I40="",D40=""),"",IF((I40-D40)=1,(I40-D40)&" dia",(I40-D40)&" dias"))) | Q40: =IF(D40 = "", " ", MONTH(D40))
J41: =IF('Registro de Contratos'!$M41="SIM",IF(OR(O41="",N41=""),"",IF((O41-N41)=1,(O41-N41)&" dia",(O41-N41)&" dias")),IF(OR(I41="",D41=""),"",IF((I41-D41)=1,(I41-D41)&" dia",(I41-D41)&" dias"))) | Q41: =IF(D41 = "", " ", MONTH(D41))
J42: =IF('Registro de Contratos'!$M42="SIM",IF(OR(O42="",N42=""),"",IF((O42-N42)=1,(O42-N42)&" dia",(O42-N42)&" dias")),IF(OR(I42="",D42=""),"",IF((I42-D42)=1,(I42-D42)&" dia",(I42-D42)&" dias"))) | Q42: =IF(D42 = "", " ", MONTH(D42))
J43: =IF('Registro de Contratos'!$M43="SIM",IF(OR(O43="",N43=""),"",IF((O43-N43)=1,(O43-N43)&" dia",(O43-N43)&" dias")),IF(OR(I43="",D43=""),"",IF((I43-D43)=1,(I43-D43)&" dia",(I43-D43)&" dias"))) | Q43: =IF(D43 = "", " ", MONTH(D43))
... J100: =IF('Registro de Contratos'!$M100="SIM",IF(OR(O100="",N100=""),"",IF((O100-N100)=1,(O100-N100)&" dia",(O100-N100)&" dias")),IF(OR(I100="",D100=""),"",IF((I100-D100)=1,(I100-D100)&" dia",(I100-D100)&" dias"))) | Q100: =IF(D100 = "", " ", MONTH(D100))
J101: Vencido | K101: =COUNTIF(K5:K100,K5) -> 1
J102: A vencer | K102: =COUNTIF(K5:K100,K11) -> 0
J103: Renegociar | K103: =COUNTIF(K5:K100,K12) -> 0
J104: Ok | K104: =COUNTIF(K5:K100,K20) -> 0
J106: Paulo Costa | K106: =COUNTIF(G5:G100,G5) -> 1
J107: Renan Viana | K107: =COUNTIF(G5:G100,G15) -> 0
J108: Rogério Vilela | K108: =COUNTIF(G5:G100,G10) -> 0
J109: Maurílio Vicente | K109: =COUNTIF(G5:G100,G14) -> 0
J111: Aluguel | K111: =COUNTIF(F5:F100,F6) -> 0
J112: Compra e Venda | K112: =COUNTIF(F5:F100,F9) -> 0
J113: Prestação de Serviço | K113: =COUNTIF(F5:F100,F7) -> 0
J114: Parceria | K114: =COUNTIF(F5:F100,F14) -> 0
J115: Compra de Produto | K115: =COUNTIF(F5:F100,F26) -> 0
J116: Consórcio | K116: =COUNTIF(F5:F100,F5) -> 1
J117: Contrato de Comodato | K117: =COUNTIF(F5:F100,F15) -> 0
J118: Locação de Shopping Center | K118: =COUNTIF(F5:F100,F21) -> 0
J119: Financeiro | K119: =COUNTIF(F5:F100,F27) -> 1
J120: Fornecimento de Produto | K120: =COUNTIF(F5:F100,F28) -> 1
J121: Instalação e Desinstalação | K121: =COUNTIF(F5:F100,F29) -> 1
J122: Manutenção Preventiva e Corretiva | K122: =COUNTIF(F5:F100,F30) -> 1
J123: Materiais de construção | K123: =COUNTIF(F5:F100,F31) -> 1

Sheet Recebimentos
B1: CONTROLE DE RECEBIMENTOS | M1: TOTAL DO ANO: | N1: =SUM(N5:N1002) -> 0
A4: Contratos de Recebimento | B4: Janeiro | C4: Fevereiro | D4: Março | E4: Abril | F4: Maio | G4: Junho | H4: Julho | I4: Agosto | J4: Setembro | K4: Outubro | L4: Novembro | M4: Dezembro | N4: VALOR TOTAL
N5: =SUM(B5:M5) -> 0
N6: =SUM(B6:M6) -> 0
N7: =SUM(B7:M7) -> 0
N8: =SUM(B8:M8) -> 0
A9: =IF('Registro de Contratos'!B9="","-",'Registro de Contratos'!B9&" - "&'Registro de Contratos'!C9&" - "&'Registro de Contratos'!F9) -> - | N9: =SUM(B9:M9) -> 0
A10: =IF('Registro de Contratos'!B10="","-",'Registro de Contratos'!B10&" - "&'Registro de Contratos'!C10&" - "&'Registro de Contratos'!F10) -> - | N10: =SUM(B10:M10) -> 0
A11: =IF('Registro de Contratos'!B11="","-",'Registro de Contratos'!B11&" - "&'Registro de Contratos'!C11&" - "&'Registro de Contratos'!F11) -> - | N11: =SUM(B11:M11) -> 0
A12: =IF('Registro de Contratos'!B12="","-",'Registro de Contratos'!B12&" - "&'Registro de Contratos'!C12&" - "&'Registro de Contratos'!F12) -> - | N12: =SUM(B12:M12) -> 0
A13: =IF('Registro de Contratos'!B13="","-",'Registro de Contratos'!B13&" - "&'Registro de Contratos'!C13&" - "&'Registro de Contratos'!F13) -> - | N13: =SUM(B13:M13) -> 0
A14: =IF('Registro de Contratos'!B14="","-",'Registro de Contratos'!B14&" - "&'Registro de Contratos'!C14&" - "&'Registro de Contratos'!F14) -> - | N14: =SUM(B14:M14) -> 0
A15: =IF('Registro de Contratos'!B15="","-",'Registro de Contratos'!B15&" - "&'Registro de Contratos'!C15&" - "&'Registro de Contratos'!F15) -> - | N15: =SUM(B15:M15) -> 0
A16: =IF('Registro de Contratos'!B16="","-",'Registro de Contratos'!B16&" - "&'Registro de Contratos'!C16&" - "&'Registro de Contratos'!F16) -> - | N16: =SUM(B16:M16) -> 0
A17: =IF('Registro de Contratos'!B17="","-",'Registro de Contratos'!B17&" - "&'Registro de Contratos'!C17&" - "&'Registro de Contratos'!F17) -> - | N17: =SUM(B17:M17) -> 0
A18: =IF('Registro de Contratos'!B18="","-",'Registro de Contratos'!B18&" - "&'Registro de Contratos'!C18&" - "&'Registro de Contratos'!F18) -> - | N18: =SUM(B18:M18) -> 0
A19: =IF('Registro de Contratos'!B19="","-",'Registro de Contratos'!B19&" - "&'Registro de Contratos'!C19&" - "&'Registro de Contratos'!F19) -> - | N19: =SUM(B19:M19) -> 0
A20: =IF('Registro de Contratos'!B20="","-",'Registro de Contratos'!B20&" - "&'Registro de Contratos'!C20&" - "&'Registro de Contratos'!F20) -> - | N20: =SUM(B20:M20) -> 0
... A100: =IF('Registro de Contratos'!B100="","-",'Registro de Contratos'!B100&" - "&'Registro de Contratos'!C100&" - "&'Registro de Contratos'!F100) -> - | N100: =SUM(B100:M100) -> 0
A101: =IF('Registro de Contratos'!#REF!="","-",'Registro de Contratos'!#REF!&" - "&'Registro de Contratos'!#REF!&" - "&'Registro de Contratos'!#REF!) -> #REF! | N101: =SUM(B101:M101) -> 0
A102: =IF('Registro de Contratos'!#REF!="","-",'Registro de Contratos'!#REF!&" - "&'Registro de Contratos'!#REF!&" - "&'Registro de Contratos'!#REF!) -> #REF! | N102: =SUM(B102:M102) -> 0
A103: =IF('Registro de Contratos'!#REF!="","-",'Registro de Contratos'!#REF!&" - "&'Registro de Contratos'!#REF!&" - "&'Registro de Contratos'!#REF!) -> #REF! | N103: =SUM(B103:M103) -> 0
A104: =IF('Registro de Contratos'!#REF!="","-",'Registro de Contratos'!#REF!&" - "&'Registro de Contratos'!#REF!&" - "&'Registro de Contratos'!#REF!) -> #REF! | N104: =SUM(B104:M104) -> 0
A105: =IF('Registro de Contratos'!#REF!="","-",'Registro de Contratos'!#REF!&" - "&'Registro de Contratos'!#REF!&" - "&'Registro de Contratos'!#REF!) -> #REF! | N105: =SUM(B105:M105) -> 0
A106: =IF('Registro de Contratos'!#REF!="","-",'Registro de Contratos'!#REF!&" - "&'Registro de Contratos'!#REF!&" - "&'Registro de Contratos'!#REF!) -> #REF! | N106: =SUM(B106:M106) -> 0
A107: =IF('Registro de Contratos'!#REF!="","-",'Registro de Contratos'!#REF!&" - "&'Registro de Contratos'!#REF!&" - "&'Registro de Contratos'!#REF!) -> #REF! | N107: =SUM(B107:M107) -> 0
A108: =IF('Registro de Contratos'!#REF!="","-",'Registro de Contratos'!#REF!&" - "&'Registro de Contratos'!#REF!&" - "&'Registro de Contratos'!#REF!) -> #REF! | N108: =SUM(B108:M108) -> 0
A109: =IF('Registro de Contratos'!#REF!="","-",'Registro de Contratos'!#REF!&" - "&'Registro de Contratos'!#REF!&" - "&'Registro de Contratos'!#REF!) -> #REF! | N109: =SUM(B109:M109) -> 0
A110: =IF('Registro de Contratos'!#REF!="","-",'Registro de Contratos'!#REF!&" - "&'Registro de Contratos'!#REF!&" - "&'Registro de Contratos'!#REF!) -> #REF! | N110: =SUM(B110:M110) -> 0
A111: =IF('Registro de Contratos'!#REF!="","-",'Registro de Contratos'!#REF!&" - "&'Registro de Contratos'!#REF!&" - "&'Registro de Contratos'!#REF!) -> #REF! | N111: =SUM(B111:M111) -> 0
A112: =IF('Registro de Contratos'!#REF!="","-",'Registro de Contratos'!#REF!&" - "&'Registro de Contratos'!#REF!&" - "&'Registro de Contratos'!#REF!) -> #REF! | N112: =SUM(B112:M112) -> 0
... A1001: =IF('Registro de Contratos'!#REF!="","-",'Registro de Contratos'!#REF!&" - "&'Registro de Contratos'!#REF!&" - "&'Registro de Contratos'!#REF!) -> #REF! | N1001: =SUM(B1001:M1001) -> 0
A1002: =IF('Registro de Contratos'!B101="","-",'Registro de Contratos'!B101&" - "&'Registro de Contratos'!C101&" - "&'Registro de Contratos'!F101) -> - | N1002: =SUM(B1002:M1002) -> 0
